BEGIN:VCALENDAR
VERSION:2.0
PRODID:-//Kindergarten Hesel - ECPv5.0.2//NONSGML v1.0//EN
CALSCALE:GREGORIAN
METHOD:PUBLISH
X-WR-CALNAME:Kindergarten Hesel
X-ORIGINAL-URL:https://kiga-hesel.hesel.de
X-WR-CALDESC:Veranstaltungen für Kindergarten Hesel
BEGIN:VTIMEZONE
TZID:Europe/Berlin
BEGIN:DAYLIGHT
TZOFFSETFROM:+0100
TZOFFSETTO:+0200
TZNAME:CEST
DTSTART:20250330T010000
END:DAYLIGHT
BEGIN:STANDARD
TZOFFSETFROM:+0200
TZOFFSETTO:+0100
TZNAME:CET
DTSTART:20251026T010000
END:STANDARD
END:VTIMEZONE
BEGIN:VEVENT
DTSTART;TZID=Europe/Berlin:20250604T080000
DTEND;TZID=Europe/Berlin:20250606T170000
DTSTAMP:20260423T162546
CREATED:20250411T103232Z
LAST-MODIFIED:20250411T103232Z
UID:3904-1749024000-1749229200@kiga-hesel.hesel.de
SUMMARY:Kinder helfen Kinder
DESCRIPTION:Die Vorschulkinder nehmen an einem Erste Hilfe Kurs für Kinder unter dem Motto: „Kinder helfen Kinder“ teil. Dieser Kurs wird vom DRK angeboten und findet im Kindergarten Hesel statt. \n
URL:https://kiga-hesel.hesel.de/veranstaltung/kinder-helfen-kinder/
END:VEVENT
END:VCALENDAR