BEGIN:VCALENDAR
VERSION:2.0
PRODID:-//Kindergarten Hesel - ECPv5.0.2//NONSGML v1.0//EN
CALSCALE:GREGORIAN
METHOD:PUBLISH
X-WR-CALNAME:Kindergarten Hesel
X-ORIGINAL-URL:https://kiga-hesel.hesel.de
X-WR-CALDESC:Veranstaltungen für Kindergarten Hesel
BEGIN:VTIMEZONE
TZID:Europe/Berlin
BEGIN:DAYLIGHT
TZOFFSETFROM:+0100
TZOFFSETTO:+0200
TZNAME:CEST
DTSTART:20230326T010000
END:DAYLIGHT
BEGIN:STANDARD
TZOFFSETFROM:+0200
TZOFFSETTO:+0100
TZNAME:CET
DTSTART:20231029T010000
END:STANDARD
END:VTIMEZONE
BEGIN:VEVENT
DTSTART;VALUE=DATE:20230519
DTEND;VALUE=DATE:20230520
DTSTAMP:20260422T204649
CREATED:20220908T091505Z
LAST-MODIFIED:20220908T091505Z
UID:2786-1684454400-1684540799@kiga-hesel.hesel.de
SUMMARY:Brückentag
DESCRIPTION:Am Tag nach Christi Himmelfahrt bleibt der Kindergarten geschlossen. \n
URL:https://kiga-hesel.hesel.de/veranstaltung/brueckentag-3/
END:VEVENT
END:VCALENDAR